BEGIN:VCALENDAR
VERSION:2.0
PRODID:-//Families with Teens - ECPv5.3.2.1//NONSGML v1.0//EN
CALSCALE:GREGORIAN
METHOD:PUBLISH
X-WR-CALNAME:Families with Teens
X-ORIGINAL-URL:https://familieswithteens.org
X-WR-CALDESC:Events for Families with Teens
BEGIN:VTIMEZONE
TZID:UTC
BEGIN:STANDARD
TZOFFSETFROM:+0000
TZOFFSETTO:+0000
TZNAME:UTC
DTSTART:20170101T000000
END:STANDARD
END:VTIMEZONE
BEGIN:VEVENT
DTSTART;TZID=UTC:20170611T131500
DTEND;TZID=UTC:20170611T144500
DTSTAMP:20260423T050502
CREATED:20170601T155105Z
LAST-MODIFIED:20170601T155105Z
UID:1834-1497186900-1497192300@familieswithteens.org
SUMMARY:3D Design: TinkerCAD
DESCRIPTION:Learn the basics of creating and manipulating 3-D objects using simple and free 3-D design software. Also learn best practices for designing objects that are 3-D printer friendly.
URL:https://familieswithteens.org/event/3d-design-tinkercad/
LOCATION:Main Library\, 303 N. Laura Street        \, Jacksonville\, FL\, 32202\, United States
CATEGORIES:Teen Events
END:VEVENT
END:VCALENDAR