BEGIN:VCALENDAR
VERSION:2.0
PRODID:-//Families with Teens - ECPv5.3.2.1//NONSGML v1.0//EN
CALSCALE:GREGORIAN
METHOD:PUBLISH
X-WR-CALNAME:Families with Teens
X-ORIGINAL-URL:https://familieswithteens.org
X-WR-CALDESC:Events for Families with Teens
BEGIN:VTIMEZONE
TZID:UTC
BEGIN:STANDARD
TZOFFSETFROM:+0000
TZOFFSETTO:+0000
TZNAME:UTC
DTSTART:20170101T000000
END:STANDARD
END:VTIMEZONE
BEGIN:VEVENT
DTSTART;TZID=UTC:20170630T150000
DTEND;TZID=UTC:20170630T170000
DTSTAMP:20260423T134937
CREATED:20170602T152604Z
LAST-MODIFIED:20170602T152604Z
UID:2034-1498834800-1498842000@familieswithteens.org
SUMMARY:6 Week Video Challenge
DESCRIPTION:Attention future Spielbergs! Do you have what it takes to Build A Better World At Your Library? Join us to learn the basics of digital film production\, from storyboarding to shooting to editing\, as you help us produce a short video that promotes the library\, literacy\, & teens!
URL:https://familieswithteens.org/event/6-week-video-challenge-15/
LOCATION:Main Library\, 303 N. Laura Street        \, Jacksonville\, FL\, 32202\, United States
CATEGORIES:Educational,Teen Events
END:VEVENT
END:VCALENDAR