BEGIN:VCALENDAR
VERSION:2.0
PRODID:-//Families with Teens - ECPv5.3.2.1//NONSGML v1.0//EN
CALSCALE:GREGORIAN
METHOD:PUBLISH
X-WR-CALNAME:Families with Teens
X-ORIGINAL-URL:https://familieswithteens.org
X-WR-CALDESC:Events for Families with Teens
BEGIN:VTIMEZONE
TZID:UTC
BEGIN:STANDARD
TZOFFSETFROM:+0000
TZOFFSETTO:+0000
TZNAME:UTC
DTSTART:20170101T000000
END:STANDARD
END:VTIMEZONE
BEGIN:VEVENT
DTSTART;TZID=UTC:20170827T180000
DTEND;TZID=UTC:20170827T200000
DTSTAMP:20260422T020848
CREATED:20170817T153741Z
LAST-MODIFIED:20170817T153741Z
UID:3615-1503856800-1503864000@familieswithteens.org
SUMMARY:Acoustic Night with Food Truck
DESCRIPTION:What a great way to spend a Sunday evening! \nBull Park is the place….loaded with local talented performers entertaining outside for a free acoustic concert.  Grab the chairs or blankets\, bring the kids\, and mingle with friends and neighbors as Mike Shackelford and local musicians entertain. \nAre you a musician interested in sharing your talents?  Contact Mike Shackelford at mike@mikeshackelford.com \nFeatured Food Truck for August: Professor Panini will be available for purchase with Jacksonville’s only gourmet Panini Food Truck! Try one of their creative Panini’s and famous asparagus\, they have something for everyone to enjoy.  Give the kitchen a break\, no clean-up required.  See you there!
URL:https://familieswithteens.org/event/acoustic-night-with-food-truck/
LOCATION:Adele Grage Community Center\, 716 Ocean Blvd\, Atlantic Beach\, FL\, 32233\, United States
CATEGORIES:Family Events,live music
ATTACH;FMTTYPE=image/jpeg:https://familieswithteens.org/wp-content/uploads/2017/06/17505058_10158329034820307_2885568714001454449_o.jpg
END:VEVENT
END:VCALENDAR