BEGIN:VCALENDAR
VERSION:2.0
PRODID:-//Families with Teens - ECPv5.3.2.1//NONSGML v1.0//EN
CALSCALE:GREGORIAN
METHOD:PUBLISH
X-WR-CALNAME:Families with Teens
X-ORIGINAL-URL:https://familieswithteens.org
X-WR-CALDESC:Events for Families with Teens
BEGIN:VTIMEZONE
TZID:UTC
BEGIN:STANDARD
TZOFFSETFROM:+0000
TZOFFSETTO:+0000
TZNAME:UTC
DTSTART:20170101T000000
END:STANDARD
END:VTIMEZONE
BEGIN:VEVENT
DTSTART;TZID=UTC:20170607T170000
DTEND;TZID=UTC:20170607T210000
DTSTAMP:20260420T035003
CREATED:20170420T022711Z
LAST-MODIFIED:20170420T022711Z
UID:1333-1496854800-1496869200@familieswithteens.org
SUMMARY:Art Walk
DESCRIPTION:The First Wednesday Art Walk is a monthly event produced by Downtown Vision\, Inc. (DVI)\, the Business Improvement District\, to bring people to the cultural and historical center of the city and showcase Jacksonville’s deep and energetic pool of creative talent. Open to visual and performing artists\, Art Walk is on the first Wednesday of every month from 5 – 9 p.m.\, rain or shine. More than 65 Art Walk venues stretch across Downtown Jacksonville’s core and include Hemming Park\, galleries\, museums\, cultural and educational venues\, restaurants and bars\, Downtown businesses and more.The First Wednesday Art Walk is a great way to meet fellow artists\, buy and appreciate their work\, and be part of the rapidly growing art scene in Jacksonville. We estimate that\, on average\, 10\,000 art enthusiasts attend each month to see more than 250 artists exhibiting on the Art Walk.
URL:https://familieswithteens.org/event/art-walk-june/
LOCATION:Hemming Park\, 117 W Duval St\, Jacksonville\, FL\, 32202\, United States
CATEGORIES:Family Events
ATTACH;FMTTYPE=image/jpeg:https://familieswithteens.org/wp-content/uploads/2017/04/ArtWalk_Graphic.jpg
END:VEVENT
END:VCALENDAR