BEGIN:VCALENDAR
VERSION:2.0
PRODID:-//Families with Teens - ECPv5.3.2.1//NONSGML v1.0//EN
CALSCALE:GREGORIAN
METHOD:PUBLISH
X-WR-CALNAME:Families with Teens
X-ORIGINAL-URL:https://familieswithteens.org
X-WR-CALDESC:Events for Families with Teens
BEGIN:VTIMEZONE
TZID:UTC
BEGIN:STANDARD
TZOFFSETFROM:+0000
TZOFFSETTO:+0000
TZNAME:UTC
DTSTART:20170101T000000
END:STANDARD
END:VTIMEZONE
BEGIN:VEVENT
DTSTART;TZID=UTC:20171007T080000
DTEND;TZID=UTC:20171007T120000
DTSTAMP:20260423T014834
CREATED:20171005T193737Z
LAST-MODIFIED:20171005T193737Z
UID:4171-1507363200-1507377600@familieswithteens.org
SUMMARY:Avondale 5K Classic
DESCRIPTION:Come run this great race in Avondale! It is a 5K course through Jacksonville’s historic Avondale district. The course runs around Boone Park and along St. Johns Ave. Don’t miss the post-race block party which will include music\, free beer\, and drawings for prizes!
URL:https://familieswithteens.org/event/avondale-5k-classic/
LOCATION:The Shoppes of Avondale\, St. Johns Ave.\, Jacksonville\, FL\, 32205\, United States
CATEGORIES:Family Events,Fitness
END:VEVENT
END:VCALENDAR