BEGIN:VCALENDAR
VERSION:2.0
PRODID:-//Families with Teens - ECPv5.3.2.1//NONSGML v1.0//EN
CALSCALE:GREGORIAN
METHOD:PUBLISH
X-WR-CALNAME:Families with Teens
X-ORIGINAL-URL:https://familieswithteens.org
X-WR-CALDESC:Events for Families with Teens
BEGIN:VTIMEZONE
TZID:UTC
BEGIN:STANDARD
TZOFFSETFROM:+0000
TZOFFSETTO:+0000
TZNAME:UTC
DTSTART:20170101T000000
END:STANDARD
END:VTIMEZONE
BEGIN:VEVENT
DTSTART;TZID=UTC:20170827T173000
DTEND;TZID=UTC:20170827T200000
DTSTAMP:20260422T054207
CREATED:20170824T164244Z
LAST-MODIFIED:20170824T164244Z
UID:3651-1503855000-1503864000@familieswithteens.org
SUMMARY:Back to School Showdown! J-Villains vs ACR Hunnies
DESCRIPTION:Jacksonville Roller Derby \nNew School Year\, Old Skool Derby!\nCelebrate the new school year by enjoying fast-paced derby action with the Jacksonville J-Villains taking on the ACR Hunnies at home! \nCome support your favorite skater/official/referee/volunteer!\nConcessions will be available for purchase.\nSpectators: bring a portable/camp chair & enjoy the action from between Turns 3 and 4! \nDoors open at 5:30pm\nFirst Whistle at 6:00pm \nTickets:\nChildren 10 years and younger are FREE!\n$12 in Advance (Online ticket sales close at 11:59pm Saturday night\, 08/26/17) or from your favorite JRD skater!\n$15 at the Door
URL:https://familieswithteens.org/event/back-to-school-showdown-j-villains-vs-acr-hunnies/
LOCATION:Skate Station Mandarin\, 3461 Kori Road\, Jacksonville\, FL\, 32257\, United States
CATEGORIES:sports
ATTACH;FMTTYPE=image/jpeg:https://familieswithteens.org/wp-content/uploads/2017/08/roller-derby.jpg
END:VEVENT
END:VCALENDAR