BEGIN:VCALENDAR
VERSION:2.0
PRODID:-//Families with Teens - ECPv5.3.2.1//NONSGML v1.0//EN
CALSCALE:GREGORIAN
METHOD:PUBLISH
X-WR-CALNAME:Families with Teens
X-ORIGINAL-URL:https://familieswithteens.org
X-WR-CALDESC:Events for Families with Teens
BEGIN:VTIMEZONE
TZID:UTC
BEGIN:STANDARD
TZOFFSETFROM:+0000
TZOFFSETTO:+0000
TZNAME:UTC
DTSTART:20170101T000000
END:STANDARD
END:VTIMEZONE
BEGIN:VEVENT
DTSTART;TZID=UTC:20170928T180000
DTEND;TZID=UTC:20170928T200000
DTSTAMP:20260425T010117
CREATED:20170831T143315Z
LAST-MODIFIED:20170831T143315Z
UID:3850-1506621600-1506628800@familieswithteens.org
SUMMARY:Board Game Night
DESCRIPTION:Come out and play board games at the library! Bring your own games or play games provided by the library. Bring your own friends or make new ones today! \nAll ages are welcome; please be sure the games you bring are family-friendly!
URL:https://familieswithteens.org/event/board-game-night-4/
LOCATION:Willow Branch Library\, 2875 Park St\, Jacksonville\, FL\, 32205\, United States
CATEGORIES:Teen Events
END:VEVENT
END:VCALENDAR