BEGIN:VCALENDAR
VERSION:2.0
PRODID:-//Families with Teens - ECPv5.3.2.1//NONSGML v1.0//EN
CALSCALE:GREGORIAN
METHOD:PUBLISH
X-WR-CALNAME:Families with Teens
X-ORIGINAL-URL:https://familieswithteens.org
X-WR-CALDESC:Events for Families with Teens
BEGIN:VTIMEZONE
TZID:UTC
BEGIN:STANDARD
TZOFFSETFROM:+0000
TZOFFSETTO:+0000
TZNAME:UTC
DTSTART:20170101T000000
END:STANDARD
END:VTIMEZONE
BEGIN:VEVENT
DTSTART;TZID=UTC:20170617T120000
DTEND;TZID=UTC:20170617T140000
DTSTAMP:20260420T131832
CREATED:20170607T192237Z
LAST-MODIFIED:20170607T192237Z
UID:2323-1497700800-1497708000@familieswithteens.org
SUMMARY:Charity Dog Wash
DESCRIPTION:Time to break out the hoses and kiddie pools and soap up some pups for a great cause! \nWe’re hosting a Charity Dog Wash at all three of our stores to benefit First Coast No More Homeless Pets(FCNMHP). FCNMHP is a local organization that offers low-cost and free veterinary services to low-income families and those in need\, as well as free spay and neuter events\, and pet adoptions. Since 2002\, FCNMHP has accomplished an astounding goal of reducing euthanizations by 95%! \nThe recommended donation is $10 per dog\, with 100% of the proceeds contributing to the low cost vet programs and animal rescue efforts at FCNMHP. We will have giveaways for pets featuring products from Castor & Pollux\, Petguard\, Ark Naturals and Pawfection. Additionally\, if you spend $40 or more during the dog wash\, you will receive a FREE gift for your pet\, so bring your dirty dogs and help support a great cause!
URL:https://familieswithteens.org/event/charity-dog-wash/
LOCATION:Native Sun
CATEGORIES:Community
ATTACH;FMTTYPE=image/jpeg:https://familieswithteens.org/wp-content/uploads/2017/06/dog-2068742_960_720.jpg
END:VEVENT
END:VCALENDAR