BEGIN:VCALENDAR
VERSION:2.0
PRODID:-//Families with Teens - ECPv5.3.2.1//NONSGML v1.0//EN
CALSCALE:GREGORIAN
METHOD:PUBLISH
X-WR-CALNAME:Families with Teens
X-ORIGINAL-URL:https://familieswithteens.org
X-WR-CALDESC:Events for Families with Teens
BEGIN:VTIMEZONE
TZID:UTC
BEGIN:STANDARD
TZOFFSETFROM:+0000
TZOFFSETTO:+0000
TZNAME:UTC
DTSTART:20170101T000000
END:STANDARD
END:VTIMEZONE
BEGIN:VEVENT
DTSTART;TZID=UTC:20170805T090000
DTEND;TZID=UTC:20170805T120000
DTSTAMP:20260423T203247
CREATED:20170629T203443Z
LAST-MODIFIED:20170629T203443Z
UID:2801-1501923600-1501934400@familieswithteens.org
SUMMARY:Community CPR/AED (Child\, Infant and Adult certification)
DESCRIPTION:This course is offered through Safety First CPR & Safety Training. \nThis course offers certification in Community CPR and includes instruction and certification in Adult\, Child & Infant CPR. Includes AED and Choking. Certification is through ASHI (American Safety & Health Institute.) \nUpon registering\, you will get an email confirmation. Please watch for it. \nOur cancellation/refund policy:\nIf cancelling 8-14 days before the class date\, 90% of your fee will be refunded. From 4-7 days before class date\, 75% is refundable. From 2-3 days before class date\, 50% is refundable. From 1 day prior to anytime after the date of the class\, 0% is refundable/transferable.
URL:https://familieswithteens.org/event/community-cpraed-child-infant-and-adult-certification-3/
LOCATION:St. Johns Forest Clubhouse\, 100 St. Johns Forest Blvd.\, St. Johns\, FL\, 32259\, United States
CATEGORIES:Educational
ATTACH;FMTTYPE=image/jpeg:https://familieswithteens.org/wp-content/uploads/2017/06/https-2F2Fcdn.evbuc_.com2Fimages2F325785392F387727828202F12Foriginal.jpg
END:VEVENT
END:VCALENDAR