BEGIN:VCALENDAR
VERSION:2.0
PRODID:-//Families with Teens - ECPv5.3.2.1//NONSGML v1.0//EN
CALSCALE:GREGORIAN
METHOD:PUBLISH
X-WR-CALNAME:Families with Teens
X-ORIGINAL-URL:https://familieswithteens.org
X-WR-CALDESC:Events for Families with Teens
BEGIN:VTIMEZONE
TZID:UTC
BEGIN:STANDARD
TZOFFSETFROM:+0000
TZOFFSETTO:+0000
TZNAME:UTC
DTSTART:20170101T000000
END:STANDARD
END:VTIMEZONE
BEGIN:VEVENT
DTSTART;TZID=UTC:20170828T153000
DTEND;TZID=UTC:20170828T170000
DTSTAMP:20260422T002702
CREATED:20170816T143658Z
LAST-MODIFIED:20170816T143658Z
UID:3578-1503934200-1503939600@familieswithteens.org
SUMMARY:Computer Hardware: Disassembly & Assembly
DESCRIPTION:Take a computer apart and learn what the parts are and how they work.\nWe’ll have computers for you to dismantle; you can learn what the cards and boards inside do and have some fun (putting it back together).
URL:https://familieswithteens.org/event/computer-hardware-disassembly-assembly-3/
LOCATION:Graham Branch Library\, 2304 Myrtle Ave N\, Jacksonville\, FL\, 32209\, United States
CATEGORIES:Teen Events
END:VEVENT
END:VCALENDAR