BEGIN:VCALENDAR
VERSION:2.0
PRODID:-//Families with Teens - ECPv5.3.2.1//NONSGML v1.0//EN
CALSCALE:GREGORIAN
METHOD:PUBLISH
X-WR-CALNAME:Families with Teens
X-ORIGINAL-URL:https://familieswithteens.org
X-WR-CALDESC:Events for Families with Teens
BEGIN:VTIMEZONE
TZID:UTC
BEGIN:STANDARD
TZOFFSETFROM:+0000
TZOFFSETTO:+0000
TZNAME:UTC
DTSTART:20170101T000000
END:STANDARD
END:VTIMEZONE
BEGIN:VEVENT
DTSTART;TZID=UTC:20170718T150000
DTEND;TZID=UTC:20170718T160000
DTSTAMP:20260421T094609
CREATED:20170620T192347Z
LAST-MODIFIED:20170620T192347Z
UID:2492-1500390000-1500393600@familieswithteens.org
SUMMARY:DIY Slime
DESCRIPTION:Join us for some #oddlysatisfying slime-making. Safe recipe\, supplies provided. For teens 12-18.
URL:https://familieswithteens.org/event/diy-slime-2/
LOCATION:Mandarin Branch Library\, 3330 Kori Rd\, Jacksonville\, FL\, 32257\, United States
CATEGORIES:Teen Events
END:VEVENT
END:VCALENDAR