BEGIN:VCALENDAR
VERSION:2.0
PRODID:-//Families with Teens - ECPv5.3.2.1//NONSGML v1.0//EN
CALSCALE:GREGORIAN
METHOD:PUBLISH
X-WR-CALNAME:Families with Teens
X-ORIGINAL-URL:https://familieswithteens.org
X-WR-CALDESC:Events for Families with Teens
BEGIN:VTIMEZONE
TZID:UTC
BEGIN:STANDARD
TZOFFSETFROM:+0000
TZOFFSETTO:+0000
TZNAME:UTC
DTSTART:20170101T000000
END:STANDARD
END:VTIMEZONE
BEGIN:VEVENT
DTSTART;TZID=UTC:20170621T160000
DTEND;TZID=UTC:20170621T170000
DTSTAMP:20260423T063501
CREATED:20170601T204455Z
LAST-MODIFIED:20170601T204455Z
UID:1945-1498060800-1498064400@familieswithteens.org
SUMMARY:Go Native!
DESCRIPTION:Tired of the same old art activities? Need reminding that creativity can exist outside of paper and canvas? Then join us for Go Native!\, a six-part art adventure that will be sure to inspire. Explore indigenous art and culture from around the world as we create projects that fuse traditional methods with contemporary designs.
URL:https://familieswithteens.org/event/go-native-10/
LOCATION:Pablo Creek Regional Library\, 13295 Beach Blvd\, Jacksonville\, FL\, 32246\, United States
CATEGORIES:Teen Events
END:VEVENT
END:VCALENDAR