BEGIN:VCALENDAR
VERSION:2.0
PRODID:-//Families with Teens - ECPv5.3.2.1//NONSGML v1.0//EN
CALSCALE:GREGORIAN
METHOD:PUBLISH
X-WR-CALNAME:Families with Teens
X-ORIGINAL-URL:https://familieswithteens.org
X-WR-CALDESC:Events for Families with Teens
BEGIN:VTIMEZONE
TZID:UTC
BEGIN:STANDARD
TZOFFSETFROM:+0000
TZOFFSETTO:+0000
TZNAME:UTC
DTSTART:20170101T000000
END:STANDARD
END:VTIMEZONE
BEGIN:VEVENT
DTSTART;TZID=UTC:20170614T160000
DTEND;TZID=UTC:20170614T170000
DTSTAMP:20260421T082455
CREATED:20170601T162255Z
LAST-MODIFIED:20170601T162255Z
UID:1868-1497456000-1497459600@familieswithteens.org
SUMMARY:Go Native
DESCRIPTION:Tired of the same old art activities? Need reminding that creativity can exist outside of paper and canvas? Then join us for Go Native!\, a six-part art adventure that will be sure to inspire. Explore indigenous art and culture from around the world as we create projects that fuse traditional methods with contemporary designs. For teens ages 12 – 18.
URL:https://familieswithteens.org/event/go-native-2/
LOCATION:Pablo Creek Regional Library\, 13295 Beach Blvd\, Jacksonville\, FL\, 32246\, United States
CATEGORIES:Teen Events
END:VEVENT
END:VCALENDAR