BEGIN:VCALENDAR
VERSION:2.0
PRODID:-//Families with Teens - ECPv5.3.2.1//NONSGML v1.0//EN
CALSCALE:GREGORIAN
METHOD:PUBLISH
X-WR-CALNAME:Families with Teens
X-ORIGINAL-URL:https://familieswithteens.org
X-WR-CALDESC:Events for Families with Teens
BEGIN:VTIMEZONE
TZID:UTC
BEGIN:STANDARD
TZOFFSETFROM:+0000
TZOFFSETTO:+0000
TZNAME:UTC
DTSTART:20170101T000000
END:STANDARD
END:VTIMEZONE
BEGIN:VEVENT
DTSTART;TZID=UTC:20171014T090000
DTEND;TZID=UTC:20171014T130000
DTSTAMP:20260420T071345
CREATED:20170829T203316Z
LAST-MODIFIED:20170829T203316Z
UID:3759-1507971600-1507986000@familieswithteens.org
SUMMARY:Jacksonville National College Fair
DESCRIPTION:Free and open to the public\, attendees have the opportunity to meet one-on-one with admission representatives from across the country\, including some international institutions. Students and parents can discuss individual needs with college experts at the fair’s counseling center. \nA list of participating colleges is available on www.nacacfairs.org/jacksonville
URL:https://familieswithteens.org/event/jacksonville-national-college-fair/
LOCATION:Prime F. Osborn III Convention Center\, 1000 Water Street\, Jacksonville\, FL\, 32204\, United States
CATEGORIES:Educational,Family Events,Teen Events
ATTACH;FMTTYPE=image/jpeg:https://familieswithteens.org/wp-content/uploads/2017/08/20369065_10155018922657804_1088960258107546256_o.jpg
END:VEVENT
END:VCALENDAR