BEGIN:VCALENDAR
VERSION:2.0
PRODID:-//Families with Teens - ECPv5.3.2.1//NONSGML v1.0//EN
CALSCALE:GREGORIAN
METHOD:PUBLISH
X-WR-CALNAME:Families with Teens
X-ORIGINAL-URL:https://familieswithteens.org
X-WR-CALDESC:Events for Families with Teens
BEGIN:VTIMEZONE
TZID:UTC
BEGIN:STANDARD
TZOFFSETFROM:+0000
TZOFFSETTO:+0000
TZNAME:UTC
DTSTART:20170101T000000
END:STANDARD
END:VTIMEZONE
BEGIN:VEVENT
DTSTART;TZID=UTC:20170804T170000
DTEND;TZID=UTC:20170804T203000
DTSTAMP:20260423T202846
CREATED:20170725T164330Z
LAST-MODIFIED:20170725T164330Z
UID:3147-1501866000-1501878600@familieswithteens.org
SUMMARY:Jaguars to host Florida Blue Family Night Practice at EverBank Field
DESCRIPTION:The Jacksonville Jaguars have announced plans for the annual Florida Blue Family Night Practice at EverBank Field on Friday\, August 4. Gates will open at 5 p.m. prior to the team’s practice from 6 p.m. to 8:30 p.m. The event is open to the public for fans who register in advance at www.jaguars.com/familynight. \nGames and activities will be available and Jaxon de Ville will take photographs in the Fan Entertainment Zone near Gate 1 from 5 – 7 p.m. In addition\, guests are invited to receive autographs from The ROAR and Jaguars alumni players from 5:15 – 5:45 p.m. Concessions and merchandise will also be available. Following practice\, players will sign autographs along the field walls while the stadium lights are dimmed for a fireworks show. \nAll guests are also invited to take a behind-the-scenes tour of Daily’s Place from 5 – 6:30 p.m. including a look inside the all new covered flex field and a look backstage at the artist dressing rooms.
URL:https://familieswithteens.org/event/jaguars-to-host-florida-blue-family-night-practice-at-everbank-field/
LOCATION:Everbank Field\, 1 Everbank Field Dr\, Jacksonville\, FL\, 32202\, United States
CATEGORIES:Community,Family Events,sports
END:VEVENT
END:VCALENDAR