BEGIN:VCALENDAR
VERSION:2.0
PRODID:-//Families with Teens - ECPv5.3.2.1//NONSGML v1.0//EN
CALSCALE:GREGORIAN
METHOD:PUBLISH
X-WR-CALNAME:Families with Teens
X-ORIGINAL-URL:https://familieswithteens.org
X-WR-CALDESC:Events for Families with Teens
BEGIN:VTIMEZONE
TZID:UTC
BEGIN:STANDARD
TZOFFSETFROM:+0000
TZOFFSETTO:+0000
TZNAME:UTC
DTSTART:20170101T000000
END:STANDARD
END:VTIMEZONE
BEGIN:VEVENT
DTSTART;TZID=UTC:20170618T123000
DTEND;TZID=UTC:20170618T143000
DTSTAMP:20260423T122332
CREATED:20170614T152347Z
LAST-MODIFIED:20170614T152347Z
UID:2437-1497789000-1497796200@familieswithteens.org
SUMMARY:Jax Diner Father's Day Brunch
DESCRIPTION:12:30 Pm Seating  1 Seating Only (Must RSVP) \nCall 904-739-7070 Or email jaxsdiner.com \nEnjoy a five course meal with everything from gumbo to shrimp cakes to fried steak benedict to chicken wings. End with some peach cobbler. See full menu HERE \n22.99 Per Person (Kids 10.99 under 14) \nSoft Drinks are 1.79 with Free Refills \nAll Wine\, Beer are welcome to bring 5.00 Per Table. Please Drink Reasonable!
URL:https://familieswithteens.org/event/jax-diner-fathers-day-brunch/
LOCATION:Jax Diner\, 5065v St. Augustine Road\, Jacksonville\, FL\, 32207\, United States
CATEGORIES:Family Events
END:VEVENT
END:VCALENDAR