BEGIN:VCALENDAR
VERSION:2.0
PRODID:-//Families with Teens - ECPv5.3.2.1//NONSGML v1.0//EN
CALSCALE:GREGORIAN
METHOD:PUBLISH
X-WR-CALNAME:Families with Teens
X-ORIGINAL-URL:https://familieswithteens.org
X-WR-CALDESC:Events for Families with Teens
BEGIN:VTIMEZONE
TZID:UTC
BEGIN:STANDARD
TZOFFSETFROM:+0000
TZOFFSETTO:+0000
TZNAME:UTC
DTSTART:20170101T000000
END:STANDARD
END:VTIMEZONE
BEGIN:VEVENT
DTSTART;TZID=UTC:20170708T120000
DTEND;TZID=UTC:20170708T130000
DTSTAMP:20260423T154111
CREATED:20170701T013401Z
LAST-MODIFIED:20170701T013401Z
UID:2823-1499515200-1499518800@familieswithteens.org
SUMMARY:Learn Ukulele for FREE!
DESCRIPTION:Come join us for a fun\, interactive\, and educational workshop on a great instrument – the ukulele! \nWhether you’re a budding uke enthusiast or a guitar player just looking for something different this class is for you. It’s way easier than you think! \nYou may bring your own\, or use one of ours.
URL:https://familieswithteens.org/event/learn-ukulele-for-free/
LOCATION:George’s Music\, 8151 Blanding Blvd.\, Orange Park\, FL\, 32244\, United States
CATEGORIES:Educational,Teen Events
END:VEVENT
END:VCALENDAR