BEGIN:VCALENDAR
VERSION:2.0
PRODID:-//Families with Teens - ECPv5.3.2.1//NONSGML v1.0//EN
CALSCALE:GREGORIAN
METHOD:PUBLISH
X-WR-CALNAME:Families with Teens
X-ORIGINAL-URL:https://familieswithteens.org
X-WR-CALDESC:Events for Families with Teens
BEGIN:VTIMEZONE
TZID:UTC
BEGIN:STANDARD
TZOFFSETFROM:+0000
TZOFFSETTO:+0000
TZNAME:UTC
DTSTART:20170101T000000
END:STANDARD
END:VTIMEZONE
BEGIN:VEVENT
DTSTART;TZID=UTC:20170617T090000
DTEND;TZID=UTC:20170618T200000
DTSTAMP:20260423T092114
CREATED:20170614T151347Z
LAST-MODIFIED:20170614T151347Z
UID:2430-1497690000-1497816000@familieswithteens.org
SUMMARY:Magnolia's Free Father's Day Drink
DESCRIPTION:Bring your Dad (or yourself) to brunch or dinner at Magnolia’s Pub and receive a free Mimosa or Bloody Mary for brunch or drink for dinner! Available 9am-2pm
URL:https://familieswithteens.org/event/magnolias-free-fathers-day-drink/
LOCATION:Magnolia’s Pub\, 1190 Edgewood Ave. S.\, Jacksonville\, FL\, 32205\, United States
CATEGORIES:Family Events
END:VEVENT
END:VCALENDAR