BEGIN:VCALENDAR
VERSION:2.0
PRODID:-//Families with Teens - ECPv5.3.2.1//NONSGML v1.0//EN
CALSCALE:GREGORIAN
METHOD:PUBLISH
X-WR-CALNAME:Families with Teens
X-ORIGINAL-URL:https://familieswithteens.org
X-WR-CALDESC:Events for Families with Teens
BEGIN:VTIMEZONE
TZID:UTC
BEGIN:STANDARD
TZOFFSETFROM:+0000
TZOFFSETTO:+0000
TZNAME:UTC
DTSTART:20170101T000000
END:STANDARD
END:VTIMEZONE
BEGIN:VEVENT
DTSTART;TZID=UTC:20170812T180000
DTEND;TZID=UTC:20170812T203000
DTSTAMP:20260424T121239
CREATED:20170808T203741Z
LAST-MODIFIED:20170808T203741Z
UID:3461-1502560800-1502569800@familieswithteens.org
SUMMARY:Medium Sign Workshop - 14 and up welcome!
DESCRIPTION:Have you wanted to bring your little sister\, cousin\, or daughter to the Studio for some DIY fun? For the first time\, we are offering our Medium sign workshop to everyone 14 and up! \nBuild your own signs\, personalize with your own colors and style in the Studio! \nSee you in the Studio!
URL:https://familieswithteens.org/event/medium-sign-workshop-14-and-up-welcome/
LOCATION:Creative Grain Studio\, 1814 Hendricks Ave.\, Jacksonville\, FL\, 32207\, United States
CATEGORIES:Community,Family Events,Teen Events
ATTACH;FMTTYPE=image/jpeg:https://familieswithteens.org/wp-content/uploads/2017/08/20032111_805723369604270_5980014620293666762_n.jpg
END:VEVENT
END:VCALENDAR