BEGIN:VCALENDAR
VERSION:2.0
PRODID:-//Families with Teens - ECPv5.3.2.1//NONSGML v1.0//EN
CALSCALE:GREGORIAN
METHOD:PUBLISH
X-WR-CALNAME:Families with Teens
X-ORIGINAL-URL:https://familieswithteens.org
X-WR-CALDESC:Events for Families with Teens
BEGIN:VTIMEZONE
TZID:UTC
BEGIN:STANDARD
TZOFFSETFROM:+0000
TZOFFSETTO:+0000
TZNAME:UTC
DTSTART:20170101T000000
END:STANDARD
END:VTIMEZONE
BEGIN:VEVENT
DTSTART;TZID=UTC:20170715T090000
DTEND;TZID=UTC:20170715T110000
DTSTAMP:20260424T104632
CREATED:20170712T210351Z
LAST-MODIFIED:20170712T210351Z
UID:2932-1500109200-1500116400@familieswithteens.org
SUMMARY:Morning Yoga at RAM
DESCRIPTION:Relax and practice yoga along the St. Johns River and under the Fuller Warren Bridge at RAM’s Riverstage! \nMorning Yoga at Riverside Arts Market (RAM) is taught by a variety of certified teachers and is a donation-based class. All yogis attending\, please bring your own mat and supplies. Check out the following dates for your favorite teachers: \nJuly 1: No Yoga\nJuly 8: Kylie Stein\nJuly 15: Wendy Cruff\nJuly 22: Brigid Murphy\nJuly 29: Marcy Knight \nTeachers are subject to change without notification and monthly schedules will be posted! \nAfter class\, join RAM every Saturday from 10 a.m. – 3 p.m.\, rain or shine. Produced by Riverside Avondale Preservation\, RAM features artists\, artisans\, farmers\, makers\, musicians and many other community organizations. RAM is a great place to grab your locally grown produce\, purchase local art\, grab a bite to eat and enjoy the day along the St. John’s River.
URL:https://familieswithteens.org/event/morning-yoga-at-ram/
LOCATION:Riverside Arts Market\, 715 Riverside Ave\, Jacksonville\, FL\, United States
CATEGORIES:Fitness
END:VEVENT
END:VCALENDAR