BEGIN:VCALENDAR
VERSION:2.0
PRODID:-//Families with Teens - ECPv5.3.2.1//NONSGML v1.0//EN
CALSCALE:GREGORIAN
METHOD:PUBLISH
X-WR-CALNAME:Families with Teens
X-ORIGINAL-URL:https://familieswithteens.org
X-WR-CALDESC:Events for Families with Teens
BEGIN:VTIMEZONE
TZID:UTC
BEGIN:STANDARD
TZOFFSETFROM:+0000
TZOFFSETTO:+0000
TZNAME:UTC
DTSTART:20170101T000000
END:STANDARD
END:VTIMEZONE
BEGIN:VEVENT
DTSTART;TZID=UTC:20170607T180000
DTEND;TZID=UTC:20170607T200000
DTSTAMP:20260420T073821
CREATED:20170601T154234Z
LAST-MODIFIED:20170601T154234Z
UID:1827-1496858400-1496865600@familieswithteens.org
SUMMARY:Nerd Night
DESCRIPTION:Nerds of the world\, unite! Join us at the Pablo Creek Library in the Teen Room for an evening of fun and games. We’ll offer a wide variety of nerdy diversions including: Yu-Gi-Oh!; Pokemon; Magic The Gathering; tabletop/board games and more! Ages 12-18 welcome.
URL:https://familieswithteens.org/event/nerd-night-2/
LOCATION:Pablo Creek Regional Library\, 13295 Beach Blvd\, Jacksonville\, FL\, 32246\, United States
CATEGORIES:Teen Events
END:VEVENT
END:VCALENDAR