BEGIN:VCALENDAR
VERSION:2.0
PRODID:-//Families with Teens - ECPv5.3.2.1//NONSGML v1.0//EN
CALSCALE:GREGORIAN
METHOD:PUBLISH
X-WR-CALNAME:Families with Teens
X-ORIGINAL-URL:https://familieswithteens.org
X-WR-CALDESC:Events for Families with Teens
BEGIN:VTIMEZONE
TZID:UTC
BEGIN:STANDARD
TZOFFSETFROM:+0000
TZOFFSETTO:+0000
TZNAME:UTC
DTSTART:20170101T000000
END:STANDARD
END:VTIMEZONE
BEGIN:VEVENT
DTSTART;TZID=UTC:20170827T130000
DTEND;TZID=UTC:20170827T160000
DTSTAMP:20260424T090854
CREATED:20170824T170453Z
LAST-MODIFIED:20170824T170453Z
UID:3657-1503838800-1503849600@familieswithteens.org
SUMMARY:Pet Photo Shoot Fundraiser for Jacksonville Humane Society
DESCRIPTION:Book your spot at agoldphoto.com/jax \nAGoldPhoto Pet Photography and Southern Swells Brewing Co. are teaming up to raise money for Jacksonville Humane Society. \nThe photo shoot sitting fee for each pet is $35 and 100% of the sitting fee goes to the shelter. \nThe Details \n– The AGoldPhoto sitting fee is $35\, which is fully donated to the shelter\n– You’ll receive an online gallery with photos from the shoot to choose from\n– Each edited digital photo is $20\n– 10 edited digital photos or more is $15 per photo\n– There is a minimum order of 3 digital photos\n– You’ll be sent an invoice for the amount of digital photos you’d like to purchase through PayPal\, which can be paid by credit or debit card if you don’t have a PayPal account
URL:https://familieswithteens.org/event/pet-photo-shoot-fundraiser-for-jacksonville-humane-society/
LOCATION:Southern Swells Brewing Company\, 1312 Beach Blvd.\, Jacksonville Beach\, FL\, 32250\, United States
CATEGORIES:Community,Family Events
ATTACH;FMTTYPE=image/jpeg:https://familieswithteens.org/wp-content/uploads/2017/08/human-society.jpg
END:VEVENT
END:VCALENDAR