BEGIN:VCALENDAR
VERSION:2.0
PRODID:-//Families with Teens - ECPv5.3.2.1//NONSGML v1.0//EN
CALSCALE:GREGORIAN
METHOD:PUBLISH
X-WR-CALNAME:Families with Teens
X-ORIGINAL-URL:https://familieswithteens.org
X-WR-CALDESC:Events for Families with Teens
BEGIN:VTIMEZONE
TZID:UTC
BEGIN:STANDARD
TZOFFSETFROM:+0000
TZOFFSETTO:+0000
TZNAME:UTC
DTSTART:20170101T000000
END:STANDARD
END:VTIMEZONE
BEGIN:VEVENT
DTSTART;TZID=UTC:20170704T130000
DTEND;TZID=UTC:20170704T180000
DTSTAMP:20260423T125956
CREATED:20170621T185537Z
LAST-MODIFIED:20170621T185537Z
UID:2615-1499173200-1499191200@familieswithteens.org
SUMMARY:Restaurant Orsay's 8th Annual 4th of July Backyard BBQ
DESCRIPTION:Purchase tickets HERE\nRestaurant Orsay is excited to announce our 8th annual 4th of July Backyard BBQ. \nBefore you head out to see the fireworks\, come spend the day with us enjoying food\, fun\, & libations\, all while supporting a great cause. \nThis year’s highlights include: \n“Orsay” Country Boil – Shrimp\, mussels\, craw-fish\, sausage\, corn\, & potatoes \n​Korean slow smoked pork shoulder​ sliders – House-made Kimchi\, black eyed pea salad \nMini ​Black Sheep @ Intuition Burgers – ​Grass fed patty\, American cheese\, Sheep Sauce\, lettuce\, house-made pickle\, on a sesame seed bun\n\n​Mini ​Bellwether ​Dill Pickle Brined Chicken Sandwich​es​ – ​Brined and fried chicken thigh\, house-made pickles\, Duke’s mayonnaise\, butter bread bun \nIntuition Ale Works Jon Boat ale poached hot dogs – Cubanelle pepper chow chow \nBuffalo Chicken Leg confit – Fresh cornbread & jalapeño butter \n​Popcorn with melted foie gras​\, truffle oil powder\, Parmesan cheese \n​​Dip station – Smoked Trout Dip\, ​Orsay ​7layer dip​\, French Onion Dip \nDessert station – The Orsay Ice cream cart\, cookies\, brownies\, blondies\, & cereal crispy treats​ \n​ \nWaterslide bounce house\, face painting\, and other activities for the kiddos. \n​Children under 10 admitted for free.
URL:https://familieswithteens.org/event/restaurant-orsays-8th-annual-4th-of-july-backyard-bbq/
LOCATION:Restaurant Orsay\, 3630 Park Street\, Jacksonville\, FL\, 32205\, United States
CATEGORIES:Family Events
ATTACH;FMTTYPE=image/jpeg:https://familieswithteens.org/wp-content/uploads/2017/06/1Orsay_Inuition_1-250x125.jpg
END:VEVENT
END:VCALENDAR