BEGIN:VCALENDAR
VERSION:2.0
PRODID:-//Families with Teens - ECPv5.3.2.1//NONSGML v1.0//EN
CALSCALE:GREGORIAN
METHOD:PUBLISH
X-WR-CALNAME:Families with Teens
X-ORIGINAL-URL:https://familieswithteens.org
X-WR-CALDESC:Events for Families with Teens
BEGIN:VTIMEZONE
TZID:UTC
BEGIN:STANDARD
TZOFFSETFROM:+0000
TZOFFSETTO:+0000
TZNAME:UTC
DTSTART:20170101T000000
END:STANDARD
END:VTIMEZONE
BEGIN:VEVENT
DTSTART;TZID=UTC:20170805T100000
DTEND;TZID=UTC:20170805T140000
DTSTAMP:20260423T220019
CREATED:20170725T190232Z
LAST-MODIFIED:20170725T190232Z
UID:3172-1501927200-1501941600@familieswithteens.org
SUMMARY:Rethreaded’s 6th Birthday Party
DESCRIPTION:Come celebrate 6 years of changing lives! \nA family-friendly\, pet-friendly event to celebrate with our community for enabling us to provide over 35\,000 hours of work for survivors of the sex trade! \nFREE FOOD + DRINKS all day!* Come enjoy shopping for a cause\, photo booth silliness\, face-painting fun and good tunes! \nDon’t miss pops from The Hyppo for the first 100 people! \n9 AM – Kickoff the event with a FREE yoga class hosted by Hot Spot Power Yoga! BYOYM — bring your own yoga mat! \n10:00 – 11:30 AM – FREE yummy breakfast pastries from MotionSweets + iced coffee from our friends at Social Grounds Coffee! \n11:30 – 2:00 PM – FREE picnic-style lunches will be provided by Publix and free happy hour fun provided by Engine 15 Brewing Downtown Tap Room & Biergarten! \nHUGE thanks to our media sponsor The Promise. Tune in for our commercials soon!\nAnd to Jesse And Lex Wedding Co. for the beautiful photography. \n*While supplies last.
URL:https://familieswithteens.org/event/rethreadeds-6th-birthday-party/
LOCATION:Rethreaded\, 820 Barnett Street\, Jacksonville\, FL\, 32209\, United States
CATEGORIES:Community,Family Events
ATTACH;FMTTYPE=image/png:https://familieswithteens.org/wp-content/uploads/2017/07/6thBirthdayParty_SocialMedia_1-1-600x600.png
END:VEVENT
END:VCALENDAR