BEGIN:VCALENDAR
VERSION:2.0
PRODID:-//Families with Teens - ECPv5.3.2.1//NONSGML v1.0//EN
CALSCALE:GREGORIAN
METHOD:PUBLISH
X-WR-CALNAME:Families with Teens
X-ORIGINAL-URL:https://familieswithteens.org
X-WR-CALDESC:Events for Families with Teens
BEGIN:VTIMEZONE
TZID:UTC
BEGIN:STANDARD
TZOFFSETFROM:+0000
TZOFFSETTO:+0000
TZNAME:UTC
DTSTART:20170101T000000
END:STANDARD
END:VTIMEZONE
BEGIN:VEVENT
DTSTART;TZID=UTC:20170311T083000
DTEND;TZID=UTC:20170311T120000
DTSTAMP:20260421T094652
CREATED:20170217T173912Z
LAST-MODIFIED:20170217T173912Z
UID:1145-1489221000-1489233600@familieswithteens.org
SUMMARY:River Run 15k/ 5k
DESCRIPTION:Click HERE for event info.
URL:https://familieswithteens.org/event/river-run-15k-5k/
LOCATION:Everbank Field\, 1 Everbank Field Dr\, Jacksonville\, FL\, 32202\, United States
CATEGORIES:Fitness
END:VEVENT
END:VCALENDAR