BEGIN:VCALENDAR
VERSION:2.0
PRODID:-//Families with Teens - ECPv5.3.2.1//NONSGML v1.0//EN
CALSCALE:GREGORIAN
METHOD:PUBLISH
X-WR-CALNAME:Families with Teens
X-ORIGINAL-URL:https://familieswithteens.org
X-WR-CALDESC:Events for Families with Teens
BEGIN:VTIMEZONE
TZID:UTC
BEGIN:STANDARD
TZOFFSETFROM:+0000
TZOFFSETTO:+0000
TZNAME:UTC
DTSTART:20170101T000000
END:STANDARD
END:VTIMEZONE
BEGIN:VEVENT
DTSTART;TZID=UTC:20170610T190000
DTEND;TZID=UTC:20170610T210000
DTSTAMP:20260423T014512
CREATED:20170602T184334Z
LAST-MODIFIED:20170602T184334Z
UID:2062-1497121200-1497128400@familieswithteens.org
SUMMARY:Run for the Pies 5K
DESCRIPTION:June 10\, 2017\nChampionship 5K at 7:00 PM\nOpen 5K at 7:30 PM\nhttp://1stplacesports.com/races/pies/ \n» Jacksonville’s Block Party 5K!\n» Live Band!\n» Free Beer!\n» Win Prize Money!\n» Finisher Medals!\n» Win a Pie!
URL:https://familieswithteens.org/event/run-for-the-pies-5k/
LOCATION:Jacksonville Landing\, 2 Independent Drive \, Jacksonville\, FL\, 32202\, United States
CATEGORIES:Event,Family Events,Fitness,Teen Events
END:VEVENT
END:VCALENDAR