BEGIN:VCALENDAR
VERSION:2.0
PRODID:-//Families with Teens - ECPv5.3.2.1//NONSGML v1.0//EN
CALSCALE:GREGORIAN
METHOD:PUBLISH
X-WR-CALNAME:Families with Teens
X-ORIGINAL-URL:https://familieswithteens.org
X-WR-CALDESC:Events for Families with Teens
BEGIN:VTIMEZONE
TZID:UTC
BEGIN:STANDARD
TZOFFSETFROM:+0000
TZOFFSETTO:+0000
TZNAME:UTC
DTSTART:20170101T000000
END:STANDARD
END:VTIMEZONE
BEGIN:VEVENT
DTSTART;TZID=UTC:20170614T150000
DTEND;TZID=UTC:20170614T160000
DTSTAMP:20260421T094626
CREATED:20170601T161850Z
LAST-MODIFIED:20170601T161911Z
UID:1861-1497452400-1497456000@familieswithteens.org
SUMMARY:Spy vs. Spy
DESCRIPTION:Find out if you have enough wit and prowess to be a successful spy! Each week you’ll work in tandem with other members of your agency through a series of challenges\, as you try to outwit and outmaneuver competing teams. May the best agency win! For teens ages 12 – 18.
URL:https://familieswithteens.org/event/spy-vs-spy/
LOCATION:Westbrook Branch Library\, 2809 Commonwealth Ave\, Jacksonville\, FL\, 32254\, United States
CATEGORIES:Teen Events
END:VEVENT
END:VCALENDAR