BEGIN:VCALENDAR
VERSION:2.0
PRODID:-//Families with Teens - ECPv5.3.2.1//NONSGML v1.0//EN
CALSCALE:GREGORIAN
METHOD:PUBLISH
X-WR-CALNAME:Families with Teens
X-ORIGINAL-URL:https://familieswithteens.org
X-WR-CALDESC:Events for Families with Teens
BEGIN:VTIMEZONE
TZID:UTC
BEGIN:STANDARD
TZOFFSETFROM:+0000
TZOFFSETTO:+0000
TZNAME:UTC
DTSTART:20170101T000000
END:STANDARD
END:VTIMEZONE
BEGIN:VEVENT
DTSTART;TZID=UTC:20170722T190000
DTEND;TZID=UTC:20170722T210000
DTSTAMP:20260423T032916
CREATED:20170713T165143Z
LAST-MODIFIED:20170713T165143Z
UID:2983-1500750000-1500757200@familieswithteens.org
SUMMARY:Vestcor Bridge Run
DESCRIPTION:Vestcor Bridges Charity Run\nWater Street\, Downtown Jacksonville \nSaturday\, July 22\, 2017\n5K at 7:00 PM\nhttp://1stplacesports.com/races/vestcor/ \n» Free Beer\n» Live Band\n» Raffle Prizes\n» Finisher Medals \nLast year\, almost 2\,000 runners and spectators participated in this event\, and $35\,000 was raised for our local non-profit organizations. Monies raised will benefit local non-profits\, with a focus on education and children. Charities receiving funds from previous years include American Heart Association\, Give Kids a Chance\, Monique Burr Foundation for Children\, Tiger Academy\, UF Health Jacksonville\, and many other worthwhile local organizations.
URL:https://familieswithteens.org/event/vestcor-bridge-run/
LOCATION:Prime F. Osborn III Convention Center\, 1000 Water Street\, Jacksonville\, FL\, 32204\, United States
CATEGORIES:Community,Fitness
ATTACH;FMTTYPE=image/jpeg:https://familieswithteens.org/wp-content/uploads/2017/07/140809E080VS-373x300.jpg
END:VEVENT
END:VCALENDAR