BEGIN:VCALENDAR
VERSION:2.0
PRODID:-//Families with Teens - ECPv5.3.2.1//NONSGML v1.0//EN
CALSCALE:GREGORIAN
METHOD:PUBLISH
X-WR-CALNAME:Families with Teens
X-ORIGINAL-URL:https://familieswithteens.org
X-WR-CALDESC:Events for Families with Teens
BEGIN:VTIMEZONE
TZID:UTC
BEGIN:STANDARD
TZOFFSETFROM:+0000
TZOFFSETTO:+0000
TZNAME:UTC
DTSTART:20170101T000000
END:STANDARD
END:VTIMEZONE
BEGIN:VEVENT
DTSTART;TZID=UTC:20170701T170000
DTEND;TZID=UTC:20170701T220000
DTSTAMP:20260421T083328
CREATED:20170621T185011Z
LAST-MODIFIED:20170621T185934Z
UID:2610-1498928400-1498946400@familieswithteens.org
SUMMARY:Void's Great American SIP N' SLIDE
DESCRIPTION:Presented by Salt Life \nSip on ice cold drinks and listen to LIVE MUSIC by Zach Deputy all while sliding the evening away at Adventure Landing’s water park. Join us on Saturday July 1 to kick off your 4th of July festivities! \n$20 limited early-bird tickets on sale now! \n**No re-entry | No large bags | Towels permitted | 21+ Event** \nPortion of proceeds to benefit Combat2College\, Inc. \nThank you to our sponsors:\nSalt Life Retail Store JAX\nNorth Florida Sales\nBeachSide Buggies\nJacksonville Powersports\nAdventure Landing Jacksonville Beach
URL:https://familieswithteens.org/event/voids-great-american-sip-n-slide/
LOCATION:Adventure Landing Jax Bch.\, 1944 Beach Boulevard\, Jacksonville Beach\, FL\, 32250\, United States
CATEGORIES:Community,Family Events,live music
ATTACH;FMTTYPE=image/jpeg:https://familieswithteens.org/wp-content/uploads/2017/06/safe_image.jpeg
END:VEVENT
END:VCALENDAR