BEGIN:VCALENDAR
VERSION:2.0
PRODID:-//Families with Teens - ECPv5.3.2.1//NONSGML v1.0//EN
CALSCALE:GREGORIAN
METHOD:PUBLISH
X-WR-CALNAME:Families with Teens
X-ORIGINAL-URL:https://familieswithteens.org
X-WR-CALDESC:Events for Families with Teens
BEGIN:VTIMEZONE
TZID:UTC
BEGIN:STANDARD
TZOFFSETFROM:+0000
TZOFFSETTO:+0000
TZNAME:UTC
DTSTART:20170101T000000
END:STANDARD
END:VTIMEZONE
BEGIN:VEVENT
DTSTART;TZID=UTC:20170422T190000
DTEND;TZID=UTC:20170422T230000
DTSTAMP:20260425T105511
CREATED:20170421T002851Z
LAST-MODIFIED:20170421T002851Z
UID:1409-1492887600-1492902000@familieswithteens.org
SUMMARY:R.A.D. Nights at Rebounderz
DESCRIPTION:
URL:https://familieswithteens.org/event/r-a-d-nights-at-rebounderz/
LOCATION:Rebounderz\, 14985 Old St Augustine Rd\, Jacksonville\, FL\, 32258\, United States
CATEGORIES:Family Events,Fitness,Teen Events
ATTACH;FMTTYPE=image/jpeg:https://familieswithteens.org/wp-content/uploads/2017/04/17861809_1143849409056829_6778379698271007389_n.jpg
END:VEVENT
BEGIN:VEVENT
DTSTART;TZID=UTC:20170422T210000
DTEND;TZID=UTC:20170422T210000
DTSTAMP:20260425T105511
CREATED:20170420T200044Z
LAST-MODIFIED:20170420T200044Z
UID:1385-1492894800-1492894800@familieswithteens.org
SUMMARY:Flight Night at Velocity
DESCRIPTION:Velocity hosts Flight Night every Friday and Saturday night from 9pm to 12 midnight. The event features lasers\, state of the art sound and lighting\, and is open to all ages. Get your tickets in advance\, as the event often sells out. Cost is $14/jumping hour.
URL:https://familieswithteens.org/event/flight-night-at-velocity/
LOCATION:Velocity Air Sports\, 7022 AC Skinner Pkwy Suite 200 \, Jacksonville\, FL\, 32256\, United States
CATEGORIES:Family Events,Teen Events
END:VEVENT
END:VCALENDAR