BEGIN:VCALENDAR
VERSION:2.0
PRODID:-//Families with Teens - ECPv5.3.2.1//NONSGML v1.0//EN
CALSCALE:GREGORIAN
METHOD:PUBLISH
X-WR-CALNAME:Families with Teens
X-ORIGINAL-URL:https://familieswithteens.org
X-WR-CALDESC:Events for Families with Teens
BEGIN:VTIMEZONE
TZID:UTC
BEGIN:STANDARD
TZOFFSETFROM:+0000
TZOFFSETTO:+0000
TZNAME:UTC
DTSTART:20170101T000000
END:STANDARD
END:VTIMEZONE
BEGIN:VEVENT
DTSTART;TZID=UTC:20170901T154500
DTEND;TZID=UTC:20170901T161500
DTSTAMP:20260425T024133
CREATED:20170831T134157Z
LAST-MODIFIED:20170831T134157Z
UID:3809-1504280700-1504282500@familieswithteens.org
SUMMARY:Reading Buddies Teen Training
DESCRIPTION:Interested in becoming a Reading Buddy for a child? Join us for a training session to find out what’s expected of a Big Buddy. Snacks will be provided! This training program is for teens ages 12-18.
URL:https://familieswithteens.org/event/reading-buddies-teen-training/
LOCATION:Southeast Regional Library\, 10599 Deerwood Park Blvd\, Jacksonville\, FL\, 32256\, United States
CATEGORIES:Teen Events
END:VEVENT
BEGIN:VEVENT
DTSTART;TZID=UTC:20170901T180000
DTEND;TZID=UTC:20170901T200000
DTSTAMP:20260425T024133
CREATED:20170824T183428Z
LAST-MODIFIED:20170824T183428Z
UID:3664-1504288800-1504296000@familieswithteens.org
SUMMARY:Teen Night at Rock the Spectrum
DESCRIPTION:For ages 12 and up! Parents are required to stay. This month we are camping at the gym! We will be making smores and playing a lot of fun games. Pizza will be provided. $12 for the event and you must preregister to hold your spot!
URL:https://familieswithteens.org/event/teen-night-at-rock-the-spectrum/
LOCATION:We Rock the Spectrum\, 9357-3 Philips Highway\, JACKSONVILLE\, FL\, 32256\, United States
CATEGORIES:Family Events,Teen Events
ATTACH;FMTTYPE=image/jpeg:https://familieswithteens.org/wp-content/uploads/2017/08/We-rock-the-spectrum.jpg
END:VEVENT
BEGIN:VEVENT
DTSTART;TZID=UTC:20170901T200000
DTEND;TZID=UTC:20170901T230000
DTSTAMP:20260425T024133
CREATED:20170829T201105Z
LAST-MODIFIED:20170829T201105Z
UID:3738-1504296000-1504306800@familieswithteens.org
SUMMARY:Flight Night at Velocity
DESCRIPTION:Velocity hosts Flight Night every Friday and Saturday night from 9pm to 12 midnight. The event features lasers\, state of the art sound and lighting\, and is open to all ages. Get your tickets in advance\, as the event often sells out. Cost is $14/jumping hour.
URL:https://familieswithteens.org/event/flight-night-at-velocity-3/
LOCATION:Velocity Air Sports\, 7022 AC Skinner Pkwy Suite 200 \, Jacksonville\, FL\, 32256\, United States
CATEGORIES:Teen Events
END:VEVENT
END:VCALENDAR