BEGIN:VCALENDAR
VERSION:2.0
PRODID:-//Families with Teens - ECPv5.3.2.1//NONSGML v1.0//EN
CALSCALE:GREGORIAN
METHOD:PUBLISH
X-WR-CALNAME:Families with Teens
X-ORIGINAL-URL:https://familieswithteens.org
X-WR-CALDESC:Events for Families with Teens
BEGIN:VTIMEZONE
TZID:UTC
BEGIN:STANDARD
TZOFFSETFROM:+0000
TZOFFSETTO:+0000
TZNAME:UTC
DTSTART:20170101T000000
END:STANDARD
END:VTIMEZONE
BEGIN:VEVENT
DTSTART;TZID=UTC:20170902T140000
DTEND;TZID=UTC:20170902T153000
DTSTAMP:20260425T024236
CREATED:20170831T134314Z
LAST-MODIFIED:20170831T134314Z
UID:3811-1504360800-1504366200@familieswithteens.org
SUMMARY:STEM Saturday
DESCRIPTION:Teens and Tweens\, join us for an hour of science\, technology\, engineering\, or math activities.
URL:https://familieswithteens.org/event/stem-saturday/
LOCATION:West Branch Library\, 1425 Chaffee Rd. S.\, Jacksonville\, FL\, 32221\, United States
CATEGORIES:Teen Events
END:VEVENT
BEGIN:VEVENT
DTSTART;TZID=UTC:20170902T200000
DTEND;TZID=UTC:20170902T230000
DTSTAMP:20260425T024236
CREATED:20170829T200016Z
LAST-MODIFIED:20170829T200016Z
UID:3728-1504382400-1504393200@familieswithteens.org
SUMMARY:Flight Night at Velocity
DESCRIPTION:Velocity hosts Flight Night every Friday and Saturday night from 9pm to 12 midnight. The event features lasers\, state of the art sound and lighting\, and is open to all ages. Get your tickets in advance\, as the event often sells out. Cost is $14/jumping hour.
URL:https://familieswithteens.org/event/flight-night-at-velocity-2/
LOCATION:Velocity Air Sports\, 7022 AC Skinner Pkwy Suite 200 \, Jacksonville\, FL\, 32256\, United States
CATEGORIES:Fitness,Teen Events
END:VEVENT
END:VCALENDAR