BEGIN:VCALENDAR
VERSION:2.0
PRODID:-//Families with Teens - ECPv5.3.2.1//NONSGML v1.0//EN
CALSCALE:GREGORIAN
METHOD:PUBLISH
X-WR-CALNAME:Families with Teens
X-ORIGINAL-URL:https://familieswithteens.org
X-WR-CALDESC:Events for Families with Teens
BEGIN:VTIMEZONE
TZID:UTC
BEGIN:STANDARD
TZOFFSETFROM:+0000
TZOFFSETTO:+0000
TZNAME:UTC
DTSTART:20170101T000000
END:STANDARD
END:VTIMEZONE
BEGIN:VEVENT
DTSTART;TZID=UTC:20170906T160000
DTEND;TZID=UTC:20170906T190000
DTSTAMP:20260425T024134
CREATED:20170831T134427Z
LAST-MODIFIED:20170831T134427Z
UID:3813-1504713600-1504724400@familieswithteens.org
SUMMARY:Video Game Tournament
DESCRIPTION:Every Wednesday at 4pm we will set up a different gaming system\, PS4\, PS2\, Xbox or Wii\, for tournament play. Sign ups will start on Monday and continue until 4:15pm Wednesday for the gaming bracket. Tournament play will be point based\, the player with the most points at the end of the month wins a prize\, has his/her picture taken and automatically earns a seat to the end of the year “Tournament of Champions” event. Tournament play is for ages 12-18. \n\n\n\n\n\nMaximum participants typically allowed is 32.
URL:https://familieswithteens.org/event/video-game-tournament-14/
LOCATION:Main Library\, 303 N. Laura Street        \, Jacksonville\, FL\, 32202\, United States
CATEGORIES:Teen Events
END:VEVENT
BEGIN:VEVENT
DTSTART;TZID=UTC:20170906T160000
DTEND;TZID=UTC:20170906T170000
DTSTAMP:20260425T024134
CREATED:20170831T134639Z
LAST-MODIFIED:20170831T134639Z
UID:3815-1504713600-1504717200@familieswithteens.org
SUMMARY:D.I.Y. Crafts
DESCRIPTION:Easy crafts for teens 12-18. Supplies for all crafts will be provided!
URL:https://familieswithteens.org/event/d-i-y-crafts-3/
LOCATION:Pablo Creek Regional Library\, 13295 Beach Blvd\, Jacksonville\, FL\, 32246\, United States
CATEGORIES:Teen Events
END:VEVENT
BEGIN:VEVENT
DTSTART;TZID=UTC:20170906T183000
DTEND;TZID=UTC:20170906T203000
DTSTAMP:20260425T024134
CREATED:20170831T134808Z
LAST-MODIFIED:20170831T134808Z
UID:3817-1504722600-1504729800@familieswithteens.org
SUMMARY:Jacksonville Ukulele Society
DESCRIPTION:Ukulele jam session. Bring your ukulele and your talents for an evening of song.\nEveryone is welcome\, especially singers.\nEvent is free and open to the public.
URL:https://familieswithteens.org/event/jacksonville-ukulele-society/
LOCATION:Regency Square Branch Library\, 9900 Regency Square Blvd\, Jacksonville\, FL\, 32225\, United States
CATEGORIES:Family Events,Teen Events
END:VEVENT
END:VCALENDAR