BEGIN:VCALENDAR
VERSION:2.0
PRODID:-//Families with Teens - ECPv5.3.2.1//NONSGML v1.0//EN
CALSCALE:GREGORIAN
METHOD:PUBLISH
X-WR-CALNAME:Families with Teens
X-ORIGINAL-URL:https://familieswithteens.org
X-WR-CALDESC:Events for Families with Teens
BEGIN:VTIMEZONE
TZID:UTC
BEGIN:STANDARD
TZOFFSETFROM:+0000
TZOFFSETTO:+0000
TZNAME:UTC
DTSTART:20170101T000000
END:STANDARD
END:VTIMEZONE
BEGIN:VEVENT
DTSTART;TZID=UTC:20170908T153000
DTEND;TZID=UTC:20170908T163000
DTSTAMP:20260425T042414
CREATED:20170831T135622Z
LAST-MODIFIED:20170831T135622Z
UID:3826-1504884600-1504888200@familieswithteens.org
SUMMARY:Science Fair Help
DESCRIPTION:Science Fair Help\nAre you preparing to do a science fair? Looking for inspiration or help along the way? Great! Join library staff as we take you through the whole project (including a fun sample experiment!) and guide you to a variety useful library resources.
URL:https://familieswithteens.org/event/science-fair-help/
LOCATION:Olga L. Bradham and Etta L. Brooks Branch Library
CATEGORIES:Teen Events
END:VEVENT
BEGIN:VEVENT
DTSTART;TZID=UTC:20170908T160000
DTEND;TZID=UTC:20170908T180000
DTSTAMP:20260425T042414
CREATED:20170831T161231Z
LAST-MODIFIED:20170831T161231Z
UID:3916-1504886400-1504893600@familieswithteens.org
SUMMARY:MAIN-IAC ROBOTICS LABS(AGES 10-16) - PART 1
DESCRIPTION:Kids\, ages 10-16\, are encouraged to join our Main-iac Robotics Lab. Learn how to build and program robots using the Lego EV3 Mindstorms system. This is a 2 part program held 2 Thursdays in a row each month and space is limited so registration is required. We will have teams of 2-3 kids per robot kit and each month we will meet to build and manipulate a new robot creation. For more information on this exciting program\, feel free to contact Youth Services Librarian\, Andy Calvert\, at 827-6943 or at acalvert@sjcfl.us. The Lego EV3 Mindstorm kits are provided as part of a grant from The Barbara A. Kay Foundation\, seeking to enrich the lives of children.
URL:https://familieswithteens.org/event/main-iac-robotics-labsages-10-16-part-1/
LOCATION:Main Branch St. John’s County library\, 1960 N. Ponce De Leon Blvd. \, St. Augustine\, FL\, 32084\, United States
CATEGORIES:Educational,Teen Events
END:VEVENT
END:VCALENDAR