BEGIN:VCALENDAR
VERSION:2.0
PRODID:-//Families with Teens - ECPv5.3.2.1//NONSGML v1.0//EN
CALSCALE:GREGORIAN
METHOD:PUBLISH
X-WR-CALNAME:Families with Teens
X-ORIGINAL-URL:https://familieswithteens.org
X-WR-CALDESC:Events for Families with Teens
BEGIN:VTIMEZONE
TZID:UTC
BEGIN:STANDARD
TZOFFSETFROM:+0000
TZOFFSETTO:+0000
TZNAME:UTC
DTSTART:20170101T000000
END:STANDARD
END:VTIMEZONE
BEGIN:VEVENT
DTSTART;TZID=UTC:20170909T140000
DTEND;TZID=UTC:20170909T160000
DTSTAMP:20260425T024358
CREATED:20170725T182601Z
LAST-MODIFIED:20170725T182601Z
UID:3162-1504965600-1504972800@familieswithteens.org
SUMMARY:Candy Cooking Class for Adolescents
DESCRIPTION:Learn how to make suckers using cooked sugar with colors and flavors of your choosing! The class is for adolescents between 11-17 years old. This will be our first age restricted class due to the hot materials involved. In addition to the finished product\, each student is entitled to a complimentary beverage. Fee is $35
URL:https://familieswithteens.org/event/candy-cooking-class-for-adolescents/
LOCATION:Hot Shot Bakery and Cafe\, 47 Cordova Street\, St. Augustine\, FL\, 32084\, United States
CATEGORIES:Educational,Teen Events
END:VEVENT
BEGIN:VEVENT
DTSTART;TZID=UTC:20170909T140000
DTEND;TZID=UTC:20170909T153000
DTSTAMP:20260425T024358
CREATED:20170831T133527Z
LAST-MODIFIED:20170831T133527Z
UID:3801-1504965600-1504971000@familieswithteens.org
SUMMARY:STEM Saturday
DESCRIPTION:Teens and Tweens\, join us for an hour of science\, technology\, engineering\, or math activities.
URL:https://familieswithteens.org/event/stem_saturday/
LOCATION:West Branch Library\, 1425 Chaffee Rd. S.\, Jacksonville\, FL\, 32221\, United States
CATEGORIES:Teen Events
END:VEVENT
BEGIN:VEVENT
DTSTART;TZID=UTC:20170909T150000
DTEND;TZID=UTC:20170909T163000
DTSTAMP:20260425T024358
CREATED:20170831T133700Z
LAST-MODIFIED:20170831T133700Z
UID:3803-1504969200-1504974600@familieswithteens.org
SUMMARY:Saturday Gaming and More!
DESCRIPTION:Are you the card wizard? Think you’ve got what it takes to unlock the mystery of the perfect deck? Come in and challenge your friends. Bring your own deck! or show off your Wii skills and challenge your friends at the library. Feel free to bring any games or controllers. For ages 12-18. \nTeens join us to discuss program ideas for future teen events. Meeting includes includes various activities with Anime Club such as movies\, boardgames\, games and snacks. Volunteer hours are available for teens who complete the proper required paperwork.
URL:https://familieswithteens.org/event/saturday-gaming-and-more-3/
LOCATION:Olga L. Bradham and Etta L. Brooks Branch Library
CATEGORIES:Teen Events
END:VEVENT
END:VCALENDAR