BEGIN:VCALENDAR
VERSION:2.0
PRODID:-//Families with Teens - ECPv5.3.2.1//NONSGML v1.0//EN
CALSCALE:GREGORIAN
METHOD:PUBLISH
X-WR-CALNAME:Families with Teens
X-ORIGINAL-URL:https://familieswithteens.org
X-WR-CALDESC:Events for Families with Teens
BEGIN:VTIMEZONE
TZID:UTC
BEGIN:STANDARD
TZOFFSETFROM:+0000
TZOFFSETTO:+0000
TZNAME:UTC
DTSTART:20170101T000000
END:STANDARD
END:VTIMEZONE
BEGIN:VEVENT
DTSTART;TZID=UTC:20170918T180000
DTEND;TZID=UTC:20170918T200000
DTSTAMP:20260425T024323
CREATED:20170831T151612Z
LAST-MODIFIED:20170831T151612Z
UID:3886-1505757600-1505764800@familieswithteens.org
SUMMARY:Nerd Night
DESCRIPTION:Nerds of the world\, unite! Join us at the Pablo Creek Library Teen Room for an evening of fun and games. We’ll offer a wide variety of nerdy diversions including: Yu-Gi-Oh!; Pokemon; Magic The Gathering; tabletop/board games and more! Ages 12-18
URL:https://familieswithteens.org/event/nerd-night-19/
LOCATION:Pablo Creek Regional Library\, 13295 Beach Blvd\, Jacksonville\, FL\, 32246\, United States
CATEGORIES:Teen Events
END:VEVENT
BEGIN:VEVENT
DTSTART;TZID=UTC:20170918T183000
DTEND;TZID=UTC:20170918T203000
DTSTAMP:20260425T024323
CREATED:20170831T151511Z
LAST-MODIFIED:20170831T151511Z
UID:3884-1505759400-1505766600@familieswithteens.org
SUMMARY:Science Fair Help
DESCRIPTION:Are you preparing to do a science fair? Looking for inspiration or help along the way? Great! Join library staff as we take you through the whole project (including a fun sample experiment!) and guide you to a variety useful library resources. For teens age 12 – 18
URL:https://familieswithteens.org/event/science-fair-help-3/
LOCATION:Webb Wesconnett Regional Library\, 6887 103rd St\, Jacksonville\, FL\, United States
CATEGORIES:Educational,Teen Events
END:VEVENT
END:VCALENDAR