BEGIN:VCALENDAR
VERSION:2.0
PRODID:-//Families with Teens - ECPv5.3.2.1//NONSGML v1.0//EN
CALSCALE:GREGORIAN
METHOD:PUBLISH
X-WR-CALNAME:Families with Teens
X-ORIGINAL-URL:https://familieswithteens.org
X-WR-CALDESC:Events for Families with Teens
BEGIN:VTIMEZONE
TZID:UTC
BEGIN:STANDARD
TZOFFSETFROM:+0000
TZOFFSETTO:+0000
TZNAME:UTC
DTSTART:20170101T000000
END:STANDARD
END:VTIMEZONE
BEGIN:VEVENT
DTSTART;TZID=UTC:20170921T153000
DTEND;TZID=UTC:20170921T170000
DTSTAMP:20260425T024235
CREATED:20170831T150843Z
LAST-MODIFIED:20170831T150843Z
UID:3878-1506007800-1506013200@familieswithteens.org
SUMMARY:3D Design: Tinkercad for Teens
DESCRIPTION:Learn the basics of creating and manipulating 3D objects using simple and free 3D design software. Also learn best practices for designing objects that are 3D printer friendly.
URL:https://familieswithteens.org/event/3d-design-tinkercad-for-teens/
LOCATION:Westbrook Branch Library\, 2809 Commonwealth Ave\, Jacksonville\, FL\, 32254\, United States
CATEGORIES:Educational,Teen Events
END:VEVENT
BEGIN:VEVENT
DTSTART;TZID=UTC:20170921T180000
DTEND;TZID=UTC:20170921T200000
DTSTAMP:20260425T024235
CREATED:20170831T150712Z
LAST-MODIFIED:20170831T150712Z
UID:3876-1506016800-1506024000@familieswithteens.org
SUMMARY:Anime Club
DESCRIPTION:Join us at Argyle for Anime Club! Fun anime activities such as movies\, discussion\, games and snacks. Think you’ve got what it takes to unlock the mystery of the perfect deck? Come in and challenge your friends. Bring your own deck!Show off your skills and challenge your friends at the library!\nVolunteer hours are available for teens who complete the proper required paperwork.
URL:https://familieswithteens.org/event/anime-club-2/
LOCATION:Argyle Branch Library\, 7973 Old Middleburg Rd S\, Jacksonville\, FL\, 32222\, United States
CATEGORIES:Teen Events
END:VEVENT
END:VCALENDAR