BEGIN:VCALENDAR
VERSION:2.0
PRODID:-//Families with Teens - ECPv5.3.2.1//NONSGML v1.0//EN
CALSCALE:GREGORIAN
METHOD:PUBLISH
X-WR-CALNAME:Families with Teens
X-ORIGINAL-URL:https://familieswithteens.org
X-WR-CALDESC:Events for Families with Teens
BEGIN:VTIMEZONE
TZID:UTC
BEGIN:STANDARD
TZOFFSETFROM:+0000
TZOFFSETTO:+0000
TZNAME:UTC
DTSTART:20170101T000000
END:STANDARD
END:VTIMEZONE
BEGIN:VEVENT
DTSTART;TZID=UTC:20170928T170000
DTEND;TZID=UTC:20170928T180000
DTSTAMP:20260425T012650
CREATED:20170831T145111Z
LAST-MODIFIED:20170831T145111Z
UID:3854-1506618000-1506621600@familieswithteens.org
SUMMARY:Beat Rox Music Production
DESCRIPTION:Utilizing an open-source beats production program and library equipment\, participants will be able to create their own individualized beat-tracks (instrumentals).
URL:https://familieswithteens.org/event/beat-rox-music-production-4/
LOCATION:Westbrook Branch Library\, 2809 Commonwealth Ave\, Jacksonville\, FL\, 32254\, United States
CATEGORIES:Teen Events
END:VEVENT
BEGIN:VEVENT
DTSTART;TZID=UTC:20170928T170000
DTEND;TZID=UTC:20170928T190000
DTSTAMP:20260425T012650
CREATED:20170831T145226Z
LAST-MODIFIED:20170831T145226Z
UID:3856-1506618000-1506625200@familieswithteens.org
SUMMARY:Nerd Night
DESCRIPTION:Nerds of the world\, unite! Join us at the Argyle Branch Library for an evening of fun and games. We’ll offer a wide variety of nerdy diversions including: Yu-Gi-Oh!; Pokemon; Magic The Gathering; Video Games (classic and newer titles); tabletop/board games and more. Ages 12-18 welcome.
URL:https://familieswithteens.org/event/nerd-night-18/
LOCATION:Argyle Branch Library\, 7973 Old Middleburg Rd S\, Jacksonville\, FL\, 32222\, United States
CATEGORIES:Teen Events
END:VEVENT
BEGIN:VEVENT
DTSTART;TZID=UTC:20170928T180000
DTEND;TZID=UTC:20170928T200000
DTSTAMP:20260425T012650
CREATED:20170831T143315Z
LAST-MODIFIED:20170831T143315Z
UID:3850-1506621600-1506628800@familieswithteens.org
SUMMARY:Board Game Night
DESCRIPTION:Come out and play board games at the library! Bring your own games or play games provided by the library. Bring your own friends or make new ones today! \nAll ages are welcome; please be sure the games you bring are family-friendly!
URL:https://familieswithteens.org/event/board-game-night-4/
LOCATION:Willow Branch Library\, 2875 Park St\, Jacksonville\, FL\, 32205\, United States
CATEGORIES:Teen Events
END:VEVENT
BEGIN:VEVENT
DTSTART;TZID=UTC:20170928T180000
DTEND;TZID=UTC:20170928T203000
DTSTAMP:20260425T012650
CREATED:20170831T143428Z
LAST-MODIFIED:20170831T143428Z
UID:3852-1506621600-1506630600@familieswithteens.org
SUMMARY:Highlands Game Day
DESCRIPTION:Join us for our all ages game day! We have a board game to suit every interest and light refreshments. Free and open to the public.
URL:https://familieswithteens.org/event/highlands-game-day-3/
LOCATION:Highlands Regional Library\, 1826 Dunn Ave\, Jacksonville\, FL\, 32218\, United States
CATEGORIES:Teen Events
END:VEVENT
BEGIN:VEVENT
DTSTART;TZID=UTC:20170928T183000
DTEND;TZID=UTC:20170928T203000
DTSTAMP:20260425T012650
CREATED:20170831T143158Z
LAST-MODIFIED:20170831T143158Z
UID:3848-1506623400-1506630600@familieswithteens.org
SUMMARY:North Florida Folk Network Acoustic Music Jam
DESCRIPTION:The North Florida Folk Network is excited to partner with Regency Square Branch Library for an evening of acoustic music. Please bring your instruments and your voice and join in! All are encouraged to participate and/or listen. “As they say\, good live music doesn’t go away if you support it.” Ron Johnson\, North Florida Folk Music
URL:https://familieswithteens.org/event/north-florida-folk-network-acoustic-music-jam-3/
LOCATION:Regency Square Branch Library\, 9900 Regency Square Blvd\, Jacksonville\, FL\, 32225\, United States
CATEGORIES:Teen Events
END:VEVENT
END:VCALENDAR