BEGIN:VCALENDAR
VERSION:2.0
PRODID:-//Families with Teens - ECPv5.3.2.1//NONSGML v1.0//EN
CALSCALE:GREGORIAN
METHOD:PUBLISH
X-WR-CALNAME:Families with Teens
X-ORIGINAL-URL:https://familieswithteens.org
X-WR-CALDESC:Events for Families with Teens
BEGIN:VTIMEZONE
TZID:UTC
BEGIN:STANDARD
TZOFFSETFROM:+0000
TZOFFSETTO:+0000
TZNAME:UTC
DTSTART:20170101T000000
END:STANDARD
END:VTIMEZONE
BEGIN:VEVENT
DTSTART;TZID=UTC:20171015T140000
DTEND;TZID=UTC:20171015T180000
DTSTAMP:20260425T010606
CREATED:20171011T151100Z
LAST-MODIFIED:20171011T151100Z
UID:4223-1508076000-1508090400@familieswithteens.org
SUMMARY:Basketball Skills Competition
DESCRIPTION:We’re inviting youth participants ages 5-17 to show off their skills in this FREE competition. Awards will be given to winners of each age group and overall winner of each event.\n3- Point Shootout\nHot Shot\nFree Throws\nDribbling\, Passing\, Shooting
URL:https://familieswithteens.org/event/basketball-skills-competition/
LOCATION:First Coast YMCA of PVB\, 170 Landrum Lane \, Ponte Vedra Beach\, FL\, 32082\, United States
CATEGORIES:Community,Family Events,Fitness,Teen Events
END:VEVENT
END:VCALENDAR