BEGIN:VCALENDAR
VERSION:2.0
PRODID:-//Families with Teens - ECPv5.3.2.1//NONSGML v1.0//EN
CALSCALE:GREGORIAN
METHOD:PUBLISH
X-WR-CALNAME:Families with Teens
X-ORIGINAL-URL:https://familieswithteens.org
X-WR-CALDESC:Events for Families with Teens
BEGIN:VTIMEZONE
TZID:UTC
BEGIN:STANDARD
TZOFFSETFROM:+0000
TZOFFSETTO:+0000
TZNAME:UTC
DTSTART:20170101T000000
END:STANDARD
END:VTIMEZONE
BEGIN:VEVENT
DTSTART;TZID=UTC:20171101T140000
DTEND;TZID=UTC:20171101T183000
DTSTAMP:20260424T231635
CREATED:20170829T203827Z
LAST-MODIFIED:20170829T203827Z
UID:3764-1509544800-1509561000@familieswithteens.org
SUMMARY:Generation WOW 2017 Jacksonville
DESCRIPTION:GENERATION WOW is a program that focuses on the teenage girl; sharing the lessons of the positive and the possible through a year-long mentorship program. The connection of the leaders of today with the leaders of tomorrow is a powerful one and with the special GERALDINE mentor walk\, the girls are given the opportunity to understand the value of mentorship\, leadership\, self-esteem and the building of a personal network.
URL:https://familieswithteens.org/event/generation-wow-2017-jacksonville/
LOCATION:University of North Florida\, 1 UNF DR.\, Jacksonville\, FL\, 32224\, United States
CATEGORIES:Community,Teen Events
ATTACH;FMTTYPE=image/jpeg:https://familieswithteens.org/wp-content/uploads/2017/08/Generation-WOW.jpg
END:VEVENT
END:VCALENDAR